BEGIN:VCALENDAR
VERSION:2.0
PRODID:-//Intand Corporation//Tandem//EN
METHOD:PUBLISH
BEGIN:VEVENT
DTSTAMP:20260424T183655Z
DTSTART:20211106T130000Z
DTEND:20211106T170000Z
TRANSP:TRANSPARENT
PRIORITY:0
SUMMARY:Basketball Scrimmages vs Maumee Valley
LOCATION:St. Francis de Sales School > Main Gym
DESCRIPTION:Schools:\nSt. Francis de Sales School\n\nLocation:\nSt. Franci
 s de Sales School > Main Gym\n\n
URL;VALUE=URI:http://sfs.tandem.co/index.php?type=view&action=event&id=100
 49
CREATED:20210816T203321Z
LAST-MODIFIED:20211020T175858Z
UID:event-10049-stfrancisdesales@intand.com
END:VEVENT
END:VCALENDAR
