BEGIN:VCALENDAR
VERSION:2.0
PRODID:-//Intand Corporation//Tandem//EN
METHOD:PUBLISH
BEGIN:VEVENT
DTSTAMP:20260424T183928Z
DTSTART:20211110T230000Z
DTEND:20211111T003000Z
TRANSP:TRANSPARENT
PRIORITY:0
SUMMARY:Freshmen Basketball Scrimmage vs Springfield
LOCATION:St. Francis de Sales School > Main Gym
DESCRIPTION:Schools:\nSt. Francis de Sales School\n\nLocation:\nSt. Franci
 s de Sales School > Main Gym\n\n
URL;VALUE=URI:http://sfs.tandem.co/index.php?type=view&action=event&id=100
 51
CREATED:20210816T203442Z
LAST-MODIFIED:20211020T180037Z
UID:event-10051-stfrancisdesales@intand.com
END:VEVENT
END:VCALENDAR
