BEGIN:VCALENDAR
VERSION:2.0
PRODID:-//Intand Corporation//Tandem//EN
METHOD:PUBLISH
BEGIN:VEVENT
DTSTAMP:20260424T183118Z
DTSTART:20211009T123000Z
DTEND:20211009T160000Z
TRANSP:TRANSPARENT
PRIORITY:0
SUMMARY:Practice Placement Test
LOCATION:St. Francis de Sales School > Classrooms > Room 004\, St. Francis
  de Sales School > Classrooms > Room 006\, St. Francis de Sales School > C
 lassrooms > Room 007
DESCRIPTION:Schools:\nSt. Francis de Sales School\n\nLocations:\nSt. Franc
 is de Sales School > Classrooms > Room 004\nSt. Francis de Sales School > 
 Classrooms > Room 006\nSt. Francis de Sales School > Classrooms > Room 007
 \n\n
URL;VALUE=URI:http://sfs.tandem.co/index.php?type=view&action=event&id=100
 71
CREATED:20210817T141124Z
LAST-MODIFIED:20210817T141355Z
UID:event-10071-stfrancisdesales@intand.com
END:VEVENT
END:VCALENDAR
