BEGIN:VCALENDAR
VERSION:2.0
PRODID:-//Intand Corporation//Tandem//EN
METHOD:PUBLISH
BEGIN:VEVENT
DTSTAMP:20260424T183823Z
DTSTART:20220107T214500Z
DTEND:20220107T231500Z
TRANSP:TRANSPARENT
PRIORITY:0
SUMMARY:[Cancelled] Freshmen Basketball vs Clay
LOCATION:St. Francis de Sales School > Main Gym
DESCRIPTION:Schools:\nSt. Francis de Sales School\n\nLocation:\nSt. Franci
 s de Sales School > Main Gym\n\n
URL;VALUE=URI:http://sfs.tandem.co/index.php?type=view&action=event&id=101
 13
CREATED:20210818T191531Z
LAST-MODIFIED:20220103T232832Z
UID:event-10113-stfrancisdesales@intand.com
END:VEVENT
END:VCALENDAR
