BEGIN:VCALENDAR
VERSION:2.0
PRODID:-//Intand Corporation//Tandem//EN
METHOD:PUBLISH
BEGIN:VEVENT
DTSTAMP:20260424T183902Z
DTSTART:20220107T230000Z
DTEND:20220108T003000Z
TRANSP:TRANSPARENT
PRIORITY:0
SUMMARY:[Cancelled] JV Basketball vs Clay
LOCATION:St. Francis de Sales School > Main Gym
DESCRIPTION:Schools:\nSt. Francis de Sales School\n\nLocation:\nSt. Franci
 s de Sales School > Main Gym\n\n
URL;VALUE=URI:http://sfs.tandem.co/index.php?type=view&action=event&id=101
 14
CREATED:20210818T191605Z
LAST-MODIFIED:20220103T232839Z
UID:event-10114-stfrancisdesales@intand.com
END:VEVENT
END:VCALENDAR
