BEGIN:VCALENDAR
VERSION:2.0
PRODID:-//Intand Corporation//Tandem//EN
METHOD:PUBLISH
BEGIN:VEVENT
DTSTAMP:20260424T213246Z
DTSTART:20210903T130000Z
DTEND:20210903T160000Z
TRANSP:TRANSPARENT
PRIORITY:0
SUMMARY:Basketball Training
LOCATION:St. Francis de Sales School > Main Gym
DESCRIPTION:Schools:\nSt. Francis de Sales School\n\nLocation:\nSt. Franci
 s de Sales School > Main Gym\n\n
URL;VALUE=URI:http://sfs.tandem.co/index.php?type=view&action=event&id=103
 06
CREATED:20210830T191608Z
LAST-MODIFIED:20210830T191608Z
UID:event-10306-stfrancisdesales@intand.com
END:VEVENT
END:VCALENDAR
