BEGIN:VCALENDAR
VERSION:2.0
PRODID:-//Intand Corporation//Tandem//EN
METHOD:PUBLISH
BEGIN:VEVENT
DTSTAMP:20260424T183504Z
DTSTART:20220227T120000Z
DTEND:20220227T220000Z
TRANSP:TRANSPARENT
PRIORITY:0
SUMMARY:Wrestling Youth Tournament
LOCATION:St. Francis de Sales School > Main Gym\, St. Francis de Sales Sch
 ool > Mezzanine\, St. Francis de Sales School > Multi-Purpose Room\, St. F
 rancis de Sales School > West Lobby
DESCRIPTION:Schools:\nSt. Francis de Sales School\n\nLocations:\nSt. Franc
 is de Sales School > Main Gym\nSt. Francis de Sales School > Mezzanine\nSt
 . Francis de Sales School > Multi-Purpose Room\nSt. Francis de Sales Schoo
 l > West Lobby\n\n
URL;VALUE=URI:http://sfs.tandem.co/index.php?type=view&action=event&id=103
 40
CREATED:20210901T171633Z
LAST-MODIFIED:20220131T202906Z
UID:event-10340-stfrancisdesales@intand.com
END:VEVENT
END:VCALENDAR
