BEGIN:VCALENDAR
VERSION:2.0
PRODID:-//Intand Corporation//Tandem//EN
METHOD:PUBLISH
BEGIN:VEVENT
DTSTAMP:20260424T184802Z
DTSTART:20211108T230000Z
DTEND:20211109T010000Z
TRANSP:TRANSPARENT
PRIORITY:0
SUMMARY:Basketball Cheer - Practice
LOCATION:St. Francis de Sales School > Aux Gym
DESCRIPTION:Schools:\nSt. Francis de Sales School\n\nLocation:\nSt. Franci
 s de Sales School > Aux Gym\n\n
URL;VALUE=URI:http://sfs.tandem.co/index.php?type=view&action=event&id=104
 93
CREATED:20210908T155349Z
LAST-MODIFIED:20211105T144103Z
UID:event-10493-stfrancisdesales@intand.com
END:VEVENT
END:VCALENDAR
