BEGIN:VCALENDAR
VERSION:2.0
PRODID:-//Intand Corporation//Tandem//EN
METHOD:PUBLISH
BEGIN:VEVENT
DTSTAMP:20260424T183527Z
DTSTART:20210923T194500Z
DTEND:20210923T201500Z
TRANSP:TRANSPARENT
PRIORITY:0
SUMMARY:7/8 Football Team Meal
LOCATION:St. Francis de Sales School > Aux Gym
DESCRIPTION:Schools:\nSt. Francis de Sales School\n\nLocation:\nSt. Franci
 s de Sales School > Aux Gym\n\n
URL;VALUE=URI:http://sfs.tandem.co/index.php?type=view&action=event&id=110
 79
CREATED:20210923T160514Z
LAST-MODIFIED:20210923T160514Z
UID:event-11079-stfrancisdesales@intand.com
END:VEVENT
END:VCALENDAR
