BEGIN:VCALENDAR
VERSION:2.0
PRODID:-//Intand Corporation//Tandem//EN
METHOD:PUBLISH
BEGIN:VEVENT
DTSTAMP:20260424T183444Z
DTSTART:20220125T230000Z
DTEND:20220126T003000Z
TRANSP:TRANSPARENT
PRIORITY:0
SUMMARY:CCP Information Night
LOCATION:St. Francis de Sales School > Chapels > School Chapel
DESCRIPTION:Setup: 5:00 pm\nBreakdown: 8:30 pm\n\nSchools:\nSt. Francis de
  Sales School\n\nLocation:\nSt. Francis de Sales School > Chapels > School
  Chapel\n\n
URL;VALUE=URI:http://sfs.tandem.co/index.php?type=view&action=event&id=110
 87
CREATED:20210924T135351Z
LAST-MODIFIED:20220111T185723Z
UID:event-11087-stfrancisdesales@intand.com
END:VEVENT
END:VCALENDAR
