BEGIN:VCALENDAR
VERSION:2.0
PRODID:-//Intand Corporation//Tandem//EN
METHOD:PUBLISH
BEGIN:VEVENT
DTSTAMP:20260424T201328Z
DTSTART:20220127T230000Z
DTEND:20220128T020000Z
TRANSP:TRANSPARENT
PRIORITY:0
SUMMARY:Swimming - Toledo Invite Meet
LOCATION:St. Francis de Sales School > Pool
DESCRIPTION:Senior Night\n\nSchools:\nSt. Francis de Sales School\n\nLocat
 ion:\nSt. Francis de Sales School > Pool\n\n
URL;VALUE=URI:http://sfs.tandem.co/index.php?type=view&action=event&id=114
 04
CREATED:20211018T153310Z
LAST-MODIFIED:20211210T150452Z
UID:event-11404-stfrancisdesales@intand.com
END:VEVENT
END:VCALENDAR
