BEGIN:VCALENDAR
VERSION:2.0
PRODID:-//Intand Corporation//Tandem//EN
METHOD:PUBLISH
BEGIN:VEVENT
DTSTAMP:20260424T183802Z
DTSTART:20211111T191000Z
DTEND:20211112T045959Z
TRANSP:TRANSPARENT
PRIORITY:0
SUMMARY:Math Club - ASMA
LOCATION:St. Francis de Sales School > Classrooms > Room 105\, St. Francis
  de Sales School > Classrooms > Room 106\, St. Francis de Sales School > C
 lassrooms > Room 107
DESCRIPTION:Breakdown: TBD\n\nReturn: TBD\n\nSchools:\nSt. Francis de Sale
 s School\n\nLocations:\nSt. Francis de Sales School > Classrooms > Room 10
 5\nSt. Francis de Sales School > Classrooms > Room 106\nSt. Francis de Sal
 es School > Classrooms > Room 107\n\n
URL;VALUE=URI:http://sfs.tandem.co/index.php?type=view&action=event&id=115
 30
CREATED:20211020T143840Z
LAST-MODIFIED:20211110T205953Z
UID:event-11530-stfrancisdesales@intand.com
END:VEVENT
END:VCALENDAR
