BEGIN:VCALENDAR
VERSION:2.0
PRODID:-//Intand Corporation//Tandem//EN
METHOD:PUBLISH
BEGIN:VEVENT
DTSTAMP:20260424T183528Z
DTSTART:20211110T200500Z
DTEND:20211111T045959Z
TRANSP:TRANSPARENT
PRIORITY:0
SUMMARY:AMC 10/12
LOCATION:St. Francis de Sales School > Classrooms > Room 106\, St. Francis
  de Sales School > Classrooms > Room 105
DESCRIPTION:Breakdown: TBD\n\nReturn: TBD\n\nSchools:\nSt. Francis de Sale
 s School\n\nLocations:\nSt. Francis de Sales School > Classrooms > Room 10
 6\nSt. Francis de Sales School > Classrooms > Room 105\n\n
URL;VALUE=URI:http://sfs.tandem.co/index.php?type=view&action=event&id=115
 35
CREATED:20211020T144018Z
LAST-MODIFIED:20211020T144018Z
UID:event-11535-stfrancisdesales@intand.com
END:VEVENT
END:VCALENDAR
