BEGIN:VCALENDAR
VERSION:2.0
PRODID:-//Intand Corporation//Tandem//EN
METHOD:PUBLISH
BEGIN:VEVENT
DTSTAMP:20260424T184658Z
DTSTART:20220318T135000Z
DTEND:20220318T141500Z
TRANSP:TRANSPARENT
PRIORITY:0
SUMMARY:Spikeball Club Meeting
LOCATION:St. Francis de Sales School > Mezzanine
DESCRIPTION:Schools:\nSt. Francis de Sales School\n\nLocation:\nSt. Franci
 s de Sales School > Mezzanine\n\n
URL;VALUE=URI:http://sfs.tandem.co/index.php?type=view&action=event&id=116
 08
CREATED:20211020T150335Z
LAST-MODIFIED:20211020T150335Z
UID:event-11608-stfrancisdesales@intand.com
END:VEVENT
END:VCALENDAR
