BEGIN:VCALENDAR
VERSION:2.0
PRODID:-//Intand Corporation//Tandem//EN
METHOD:PUBLISH
BEGIN:VEVENT
DTSTAMP:20260424T184623Z
DTSTART:20211202T000000Z
DTEND:20211202T013000Z
TRANSP:TRANSPARENT
PRIORITY:0
SUMMARY:Basketball - Practice
LOCATION:St. Francis de Sales School > Main Gym
DESCRIPTION:Schools:\nSt. Francis de Sales School\n\nLocation:\nSt. Franci
 s de Sales School > Main Gym\n\n
URL;VALUE=URI:http://sfs.tandem.co/index.php?type=view&action=event&id=117
 84
CREATED:20211020T181023Z
LAST-MODIFIED:20211020T181023Z
UID:event-11784-stfrancisdesales@intand.com
END:VEVENT
END:VCALENDAR
