BEGIN:VCALENDAR
VERSION:2.0
PRODID:-//Intand Corporation//Tandem//EN
METHOD:PUBLISH
BEGIN:VEVENT
DTSTAMP:20260424T185744Z
DTSTART:20211027T135000Z
DTEND:20211027T141500Z
TRANSP:TRANSPARENT
PRIORITY:0
SUMMARY:PASS Assembly
LOCATION:St. Francis de Sales School > Chapels > School Chapel
DESCRIPTION:Schools:\nSt. Francis de Sales School\n\nLocation:\nSt. Franci
 s de Sales School > Chapels > School Chapel\n\n
URL;VALUE=URI:http://sfs.tandem.co/index.php?type=view&action=event&id=118
 17
CREATED:20211021T164347Z
LAST-MODIFIED:20211021T164347Z
UID:event-11817-stfrancisdesales@intand.com
END:VEVENT
END:VCALENDAR
