BEGIN:VCALENDAR
VERSION:2.0
PRODID:-//Intand Corporation//Tandem//EN
METHOD:PUBLISH
BEGIN:VEVENT
DTSTAMP:20260424T183531Z
DTSTART:20211126T170000Z
DTEND:20211126T190000Z
TRANSP:TRANSPARENT
PRIORITY:0
SUMMARY:JV Swim Practice
LOCATION:St. Francis de Sales School > Pool
DESCRIPTION:Schools:\nSt. Francis de Sales School\n\nLocation:\nSt. Franci
 s de Sales School > Pool\n\n
URL;VALUE=URI:http://sfs.tandem.co/index.php?type=view&action=event&id=118
 62
CREATED:20211027T113246Z
LAST-MODIFIED:20211122T162219Z
UID:event-11862-stfrancisdesales@intand.com
END:VEVENT
END:VCALENDAR
