BEGIN:VCALENDAR
VERSION:2.0
PRODID:-//Intand Corporation//Tandem//EN
METHOD:PUBLISH
BEGIN:VEVENT
DTSTAMP:20260424T183733Z
DTSTART:20211103T203000Z
DTEND:20211103T214500Z
TRANSP:TRANSPARENT
PRIORITY:0
SUMMARY:Swimming - Dryland Training
LOCATION:St. Francis de Sales School > Weight Room
DESCRIPTION:Schools:\nSt. Francis de Sales School\n\nLocation:\nSt. Franci
 s de Sales School > Weight Room\n\n
URL;VALUE=URI:http://sfs.tandem.co/index.php?type=view&action=event&id=120
 18
CREATED:20211027T151228Z
LAST-MODIFIED:20211103T160030Z
UID:event-12018-stfrancisdesales@intand.com
END:VEVENT
END:VCALENDAR
