BEGIN:VCALENDAR
VERSION:2.0
PRODID:-//Intand Corporation//Tandem//EN
METHOD:PUBLISH
BEGIN:VEVENT
DTSTAMP:20260424T185745Z
DTSTART:20211202T111500Z
DTEND:20211202T124500Z
TRANSP:TRANSPARENT
PRIORITY:0
SUMMARY:7th/8th Grade Basketball Practice
LOCATION:St. Francis de Sales School > Main Gym
DESCRIPTION:Schools:\nSt. Francis de Sales School\n\nLocation:\nSt. Franci
 s de Sales School > Main Gym\n\n
URL;VALUE=URI:http://sfs.tandem.co/index.php?type=view&action=event&id=121
 18
CREATED:20211028T170706Z
LAST-MODIFIED:20211028T170706Z
UID:event-12118-stfrancisdesales@intand.com
END:VEVENT
END:VCALENDAR
