BEGIN:VCALENDAR
VERSION:2.0
PRODID:-//Intand Corporation//Tandem//EN
METHOD:PUBLISH
BEGIN:VEVENT
DTSTAMP:20260424T184622Z
DTSTART:20211222T140000Z
DTEND:20211222T160000Z
TRANSP:TRANSPARENT
PRIORITY:0
SUMMARY:7th/8th Grade Basketball Practice
LOCATION:St. Francis de Sales School > Aux Gym
DESCRIPTION:Schools:\nSt. Francis de Sales School\n\nLocation:\nSt. Franci
 s de Sales School > Aux Gym\n\n
URL;VALUE=URI:http://sfs.tandem.co/index.php?type=view&action=event&id=121
 24
CREATED:20211028T170706Z
LAST-MODIFIED:20211117T195846Z
UID:event-12124-stfrancisdesales@intand.com
END:VEVENT
END:VCALENDAR
