BEGIN:VCALENDAR
VERSION:2.0
PRODID:-//Intand Corporation//Tandem//EN
METHOD:PUBLISH
BEGIN:VEVENT
DTSTAMP:20260424T213230Z
DTSTART:20211220T000000Z
DTEND:20211220T020000Z
TRANSP:TRANSPARENT
PRIORITY:0
SUMMARY:Music Christmas Concert
LOCATION:St. Francis de Sales School > Chapels > School Chapel\, St. Franc
 is de Sales School > Music Room (Room 126)
DESCRIPTION:Schools:\nSt. Francis de Sales School\n\nLocations:\nSt. Franc
 is de Sales School > Chapels > School Chapel\nSt. Francis de Sales School 
 > Music Room (Room 126)\n\n
URL;VALUE=URI:http://sfs.tandem.co/index.php?type=view&action=event&id=122
 21
CREATED:20211101T192521Z
LAST-MODIFIED:20211101T192521Z
UID:event-12221-stfrancisdesales@intand.com
END:VEVENT
END:VCALENDAR
