BEGIN:VCALENDAR
VERSION:2.0
PRODID:-//Intand Corporation//Tandem//EN
METHOD:PUBLISH
BEGIN:VEVENT
DTSTAMP:20260424T213103Z
DTSTART:20220331T135000Z
DTEND:20220331T141500Z
TRANSP:TRANSPARENT
PRIORITY:0
SUMMARY:Pillar Awards
LOCATION:St. Francis de Sales School > Chapels > School Chapel
DESCRIPTION:Schools:\nSt. Francis de Sales School\n\nLocation:\nSt. Franci
 s de Sales School > Chapels > School Chapel\n\n
URL;VALUE=URI:http://sfs.tandem.co/index.php?type=view&action=event&id=122
 96
CREATED:20211105T143922Z
LAST-MODIFIED:20220329T132418Z
UID:event-12296-stfrancisdesales@intand.com
END:VEVENT
END:VCALENDAR
