BEGIN:VCALENDAR
VERSION:2.0
PRODID:-//Intand Corporation//Tandem//EN
METHOD:PUBLISH
BEGIN:VEVENT
DTSTAMP:20260424T183629Z
DTSTART:20200821T193000Z
DTEND:20200821T211500Z
TRANSP:TRANSPARENT
PRIORITY:0
SUMMARY:Junior High Football Practice
LOCATION:St. Francis de Sales School > Athletic Fields > Gesu Field
DESCRIPTION:Schools:\nSt. Francis de Sales School\n\nLocation:\nSt. Franci
 s de Sales School > Athletic Fields > Gesu Field\n\n
URL;VALUE=URI:http://sfs.tandem.co/index.php?type=view&action=event&id=1236
CREATED:20200730T170141Z
LAST-MODIFIED:20200805T182010Z
UID:event-1236-stfrancisdesales@intand.com
END:VEVENT
END:VCALENDAR
