BEGIN:VCALENDAR
VERSION:2.0
PRODID:-//Intand Corporation//Tandem//EN
METHOD:PUBLISH
BEGIN:VEVENT
DTSTAMP:20260424T184631Z
DTSTART:20220212T160000Z
DTEND:20220212T171500Z
TRANSP:TRANSPARENT
PRIORITY:0
SUMMARY:GTAC Weights
LOCATION:St. Francis de Sales School > Weight Room
DESCRIPTION:Schools:\nSt. Francis de Sales School\n\nLocation:\nSt. Franci
 s de Sales School > Weight Room\n\n
URL;VALUE=URI:http://sfs.tandem.co/index.php?type=view&action=event&id=123
 77
CREATED:20211109T123231Z
LAST-MODIFIED:20211109T123231Z
UID:event-12377-stfrancisdesales@intand.com
END:VEVENT
END:VCALENDAR
