BEGIN:VCALENDAR
VERSION:2.0
PRODID:-//Intand Corporation//Tandem//EN
METHOD:PUBLISH
BEGIN:VEVENT
DTSTAMP:20260424T184619Z
DTSTART:20211116T000000Z
DTEND:20211116T010000Z
TRANSP:TRANSPARENT
PRIORITY:0
SUMMARY:Basketball - Weights
LOCATION:St. Francis de Sales School > Weight Room
DESCRIPTION:Schools:\nSt. Francis de Sales School\n\nLocation:\nSt. Franci
 s de Sales School > Weight Room\n\n
URL;VALUE=URI:http://sfs.tandem.co/index.php?type=view&action=event&id=124
 27
CREATED:20211109T161835Z
LAST-MODIFIED:20211109T161835Z
UID:event-12427-stfrancisdesales@intand.com
END:VEVENT
END:VCALENDAR
