BEGIN:VCALENDAR
VERSION:2.0
PRODID:-//Intand Corporation//Tandem//EN
METHOD:PUBLISH
BEGIN:VEVENT
DTSTAMP:20260424T183907Z
DTSTART:20200903T220000Z
DTEND:20200904T000000Z
TRANSP:TRANSPARENT
PRIORITY:0
SUMMARY:Junior High Football vs Ottawa Hills
LOCATION:St. Francis de Sales School > Athletic Fields > LaValley Field (S
 tadium)
DESCRIPTION:Schools:\nSt. Francis de Sales School (Neutral)\nOttawa Hills 
 Junior High (Home)\n\nLocation:\nSt. Francis de Sales School > Athletic Fi
 elds > LaValley Field (Stadium)\n\n
URL;VALUE=URI:http://sfs.tandem.co/index.php?type=view&action=event&id=1254
CREATED:20200730T175044Z
LAST-MODIFIED:20200824T193703Z
UID:event-1254-stfrancisdesales@intand.com
END:VEVENT
END:VCALENDAR
