BEGIN:VCALENDAR
VERSION:2.0
PRODID:-//Intand Corporation//Tandem//EN
METHOD:PUBLISH
BEGIN:VEVENT
DTSTAMP:20260424T183757Z
DTSTART:20201015T220000Z
DTEND:20201016T000000Z
TRANSP:TRANSPARENT
PRIORITY:0
SUMMARY:Junior High Football vs Fremont Ross
LOCATION:St. Francis de Sales School > Athletic Fields > LaValley Field (S
 tadium)
DESCRIPTION:Schools:\nSt. Francis de Sales School (Neutral)\nFremont Ross 
 Middle School (Home)\n\nLocation:\nSt. Francis de Sales School > Athletic 
 Fields > LaValley Field (Stadium)\n\n
URL;VALUE=URI:http://sfs.tandem.co/index.php?type=view&action=event&id=1261
CREATED:20200730T180721Z
LAST-MODIFIED:20200730T180721Z
UID:event-1261-stfrancisdesales@intand.com
END:VEVENT
END:VCALENDAR
