BEGIN:VCALENDAR
VERSION:2.0
PRODID:-//Intand Corporation//Tandem//EN
METHOD:PUBLISH
BEGIN:VEVENT
DTSTAMP:20260424T184859Z
DTSTART;VALUE=DATE:20220503
DTEND;VALUE=DATE:20220504
TRANSP:TRANSPARENT
PRIORITY:0
SUMMARY:M Schedule
LOCATION:St. Francis de Sales School
DESCRIPTION:Schools:\nSt. Francis de Sales School\n\nLocation:\nSt. Franci
 s de Sales School\n\n
URL;VALUE=URI:http://sfs.tandem.co/index.php?type=view&action=event&id=126
 25
CREATED:20211117T175406Z
LAST-MODIFIED:20211117T185837Z
UID:event-12625-stfrancisdesales@intand.com
END:VEVENT
END:VCALENDAR
