BEGIN:VCALENDAR
VERSION:2.0
PRODID:-//Intand Corporation//Tandem//EN
METHOD:PUBLISH
BEGIN:VEVENT
DTSTAMP:20260424T201312Z
DTSTART:20220218T000000Z
DTEND:20220218T020000Z
TRANSP:TRANSPARENT
PRIORITY:0
SUMMARY:[Cancelled] Musical - Rehearsals
LOCATION:St. Francis de Sales School > Music Room (Room 126)
DESCRIPTION:Schools:\nSt. Francis de Sales School\n\nLocation:\nSt. Franci
 s de Sales School > Music Room (Room 126)\n\n
URL;VALUE=URI:http://sfs.tandem.co/index.php?type=view&action=event&id=128
 72
CREATED:20211204T150523Z
LAST-MODIFIED:20220217T195556Z
UID:event-12872-stfrancisdesales@intand.com
END:VEVENT
END:VCALENDAR
