BEGIN:VCALENDAR
VERSION:2.0
PRODID:-//Intand Corporation//Tandem//EN
METHOD:PUBLISH
BEGIN:VEVENT
DTSTAMP:20260424T183630Z
DTSTART:20211213T213000Z
DTEND:20211213T223000Z
TRANSP:TRANSPARENT
PRIORITY:0
SUMMARY:Freshmen Basketball vs Liberty Center
LOCATION:St. Francis de Sales School > Main Gym
DESCRIPTION:Schools:\nSt. Francis de Sales School\n\nLocation:\nSt. Franci
 s de Sales School > Main Gym\n\n
URL;VALUE=URI:http://sfs.tandem.co/index.php?type=view&action=event&id=129
 30
CREATED:20211213T175719Z
LAST-MODIFIED:20211213T175719Z
UID:event-12930-stfrancisdesales@intand.com
END:VEVENT
END:VCALENDAR
