BEGIN:VCALENDAR
VERSION:2.0
PRODID:-//Intand Corporation//Tandem//EN
METHOD:PUBLISH
BEGIN:VEVENT
DTSTAMP:20260424T201146Z
DTSTART:20211215T233000Z
DTEND:20211216T010000Z
TRANSP:TRANSPARENT
PRIORITY:0
SUMMARY:Campus Ministry Meeting
LOCATION:St. Francis de Sales School > Cafeteria \, St. Francis de Sales S
 chool > Chapels > School Chapel
DESCRIPTION:Schools:\nSt. Francis de Sales School\n\nLocations:\nSt. Franc
 is de Sales School > Cafeteria \nSt. Francis de Sales School > Chapels > S
 chool Chapel\n\n
URL;VALUE=URI:http://sfs.tandem.co/index.php?type=view&action=event&id=129
 32
CREATED:20211213T190542Z
LAST-MODIFIED:20211213T190542Z
UID:event-12932-stfrancisdesales@intand.com
END:VEVENT
END:VCALENDAR
