BEGIN:VCALENDAR
VERSION:2.0
PRODID:-//Intand Corporation//Tandem//EN
METHOD:PUBLISH
BEGIN:VEVENT
DTSTAMP:20260424T184621Z
DTSTART:20220124T211500Z
DTEND:20220124T220000Z
TRANSP:TRANSPARENT
PRIORITY:0
SUMMARY:[Cancelled] Distance Runners Lifting
LOCATION:St. Francis de Sales School > Weight Room
DESCRIPTION:Schools:\nSt. Francis de Sales School\n\nLocation:\nSt. Franci
 s de Sales School > Weight Room\n\n
URL;VALUE=URI:http://sfs.tandem.co/index.php?type=view&action=event&id=129
 84
CREATED:20211220T191718Z
LAST-MODIFIED:20220124T170515Z
UID:event-12984-stfrancisdesales@intand.com
END:VEVENT
END:VCALENDAR
