BEGIN:VCALENDAR
VERSION:2.0
PRODID:-//Intand Corporation//Tandem//EN
METHOD:PUBLISH
BEGIN:VEVENT
DTSTAMP:20260424T213153Z
DTSTART:20220108T160000Z
DTEND:20220108T173000Z
TRANSP:TRANSPARENT
PRIORITY:0
SUMMARY:Freshmen Blue Basketball vs Perkins
LOCATION:St. Francis de Sales School > Main Gym
DESCRIPTION:Schools:\nSt. Francis de Sales School\n\nLocation:\nSt. Franci
 s de Sales School > Main Gym\n\n
URL;VALUE=URI:http://sfs.tandem.co/index.php?type=view&action=event&id=131
 40
CREATED:20220103T233553Z
LAST-MODIFIED:20220103T233553Z
UID:event-13140-stfrancisdesales@intand.com
END:VEVENT
END:VCALENDAR
