BEGIN:VCALENDAR
VERSION:2.0
PRODID:-//Intand Corporation//Tandem//EN
METHOD:PUBLISH
BEGIN:VEVENT
DTSTAMP:20260424T201427Z
DTSTART:20220112T000000Z
DTEND:20220112T013000Z
TRANSP:TRANSPARENT
PRIORITY:0
SUMMARY:Baseball Open Gym
LOCATION:St. Francis de Sales School > Aux Gym
DESCRIPTION:Schools:\nSt. Francis de Sales School\n\nLocation:\nSt. Franci
 s de Sales School > Aux Gym\n\n
URL;VALUE=URI:http://sfs.tandem.co/index.php?type=view&action=event&id=131
 48
CREATED:20220103T234240Z
LAST-MODIFIED:20220110T172739Z
UID:event-13148-stfrancisdesales@intand.com
END:VEVENT
END:VCALENDAR
