BEGIN:VCALENDAR
VERSION:2.0
PRODID:-//Intand Corporation//Tandem//EN
METHOD:PUBLISH
BEGIN:VEVENT
DTSTAMP:20260424T185745Z
DTSTART;VALUE=DATE:20220528
DTEND;VALUE=DATE:20220529
TRANSP:TRANSPARENT
PRIORITY:0
SUMMARY:Tennis at State Tournament
LOCATION:The Ohio State University
DESCRIPTION:Location:\nThe Ohio State University\n\n
URL;VALUE=URI:http://sfs.tandem.co/index.php?type=view&action=event&id=133
 54
CREATED:20220111T194251Z
LAST-MODIFIED:20220111T194251Z
UID:event-13354-stfrancisdesales@intand.com
END:VEVENT
END:VCALENDAR
