BEGIN:VCALENDAR
VERSION:2.0
PRODID:-//Intand Corporation//Tandem//EN
METHOD:PUBLISH
BEGIN:VEVENT
DTSTAMP:20260424T184857Z
DTSTART:20220125T145000Z
DTEND:20220125T151500Z
TRANSP:TRANSPARENT
PRIORITY:0
SUMMARY:National Honor Society Meeting
LOCATION:St. Francis de Sales School > Achievement Center
DESCRIPTION:Schools:\nSt. Francis de Sales School\n\nLocation:\nSt. Franci
 s de Sales School > Achievement Center\n\n
URL;VALUE=URI:http://sfs.tandem.co/index.php?type=view&action=event&id=133
 87
CREATED:20220118T162253Z
LAST-MODIFIED:20220118T162253Z
UID:event-13387-stfrancisdesales@intand.com
END:VEVENT
END:VCALENDAR
