BEGIN:VCALENDAR
VERSION:2.0
PRODID:-//Intand Corporation//Tandem//EN
METHOD:PUBLISH
BEGIN:VEVENT
DTSTAMP:20260424T201421Z
DTSTART:20220406T190000Z
DTEND:20220406T204500Z
TRANSP:TRANSPARENT
PRIORITY:0
SUMMARY:[Cancelled] Football Lifting
LOCATION:St. Francis de Sales School > Weight Room
DESCRIPTION:Schools:\nSt. Francis de Sales School\n\nLocation:\nSt. Franci
 s de Sales School > Weight Room\n\n
URL;VALUE=URI:http://sfs.tandem.co/index.php?type=view&action=event&id=139
 03
CREATED:20220131T171851Z
LAST-MODIFIED:20220325T190155Z
UID:event-13903-stfrancisdesales@intand.com
END:VEVENT
END:VCALENDAR
