BEGIN:VCALENDAR
VERSION:2.0
PRODID:-//Intand Corporation//Tandem//EN
METHOD:PUBLISH
BEGIN:VEVENT
DTSTAMP:20260424T183819Z
DTSTART:20220201T113000Z
DTEND:20220201T124500Z
TRANSP:TRANSPARENT
PRIORITY:0
SUMMARY:Baseball Open Gym
LOCATION:St. Francis de Sales School > Weight Room\, St. Francis de Sales 
 School > Main Gym\, St. Francis de Sales School > Aux Gym
DESCRIPTION:Schools:\nSt. Francis de Sales School\n\nLocations:\nSt. Franc
 is de Sales School > Weight Room\nSt. Francis de Sales School > Main Gym\n
 St. Francis de Sales School > Aux Gym\n\n
URL;VALUE=URI:http://sfs.tandem.co/index.php?type=view&action=event&id=139
 95
CREATED:20220201T163749Z
LAST-MODIFIED:20220201T163749Z
UID:event-13995-stfrancisdesales@intand.com
END:VEVENT
END:VCALENDAR
