BEGIN:VCALENDAR
VERSION:2.0
PRODID:-//Intand Corporation//Tandem//EN
METHOD:PUBLISH
BEGIN:VEVENT
DTSTAMP:20260424T183835Z
DTSTART:20220325T203000Z
DTEND:20220325T220000Z
TRANSP:TRANSPARENT
PRIORITY:0
SUMMARY:[Cancelled] Varsity Baseball Scrimmage vs Perrysburg
LOCATION:St. Francis de Sales School > Athletic Fields > Kober Field (Base
 ball)
DESCRIPTION:Schools:\nSt. Francis de Sales School\n\nLocation:\nSt. Franci
 s de Sales School > Athletic Fields > Kober Field (Baseball)\n\n
URL;VALUE=URI:http://sfs.tandem.co/index.php?type=view&action=event&id=140
 83
CREATED:20220201T201555Z
LAST-MODIFIED:20220325T185112Z
UID:event-14083-stfrancisdesales@intand.com
END:VEVENT
END:VCALENDAR
