BEGIN:VCALENDAR
VERSION:2.0
PRODID:-//Intand Corporation//Tandem//EN
METHOD:PUBLISH
BEGIN:VEVENT
DTSTAMP:20260424T201423Z
DTSTART:20201014T190000Z
DTEND:20201014T203000Z
TRANSP:TRANSPARENT
PRIORITY:0
SUMMARY:Varsity/JV Football Practice
LOCATION:St. Francis de Sales School > Athletic Fields > LaValley Field (S
 tadium)
DESCRIPTION:Schools:\nSt. Francis de Sales School\n\nLocation:\nSt. Franci
 s de Sales School > Athletic Fields > LaValley Field (Stadium)\n\n
URL;VALUE=URI:http://sfs.tandem.co/index.php?type=view&action=event&id=1420
CREATED:20200805T182836Z
LAST-MODIFIED:20201012T135805Z
UID:event-1420-stfrancisdesales@intand.com
END:VEVENT
END:VCALENDAR
