BEGIN:VCALENDAR
VERSION:2.0
PRODID:-//Intand Corporation//Tandem//EN
METHOD:PUBLISH
BEGIN:VEVENT
DTSTAMP:20260424T183809Z
DTSTART:20220418T160000Z
DTEND:20220418T170000Z
TRANSP:TRANSPARENT
PRIORITY:0
SUMMARY:Track & Field Practice
LOCATION:St. Francis de Sales School > Aux Gym\, St. Francis de Sales Scho
 ol > Main Gym
DESCRIPTION:Schools:\nSt. Francis de Sales School\n\nLocations:\nSt. Franc
 is de Sales School > Aux Gym\nSt. Francis de Sales School > Main Gym\n\n
URL;VALUE=URI:http://sfs.tandem.co/index.php?type=view&action=event&id=146
 54
CREATED:20220302T183513Z
LAST-MODIFIED:20220418T153310Z
UID:event-14654-stfrancisdesales@intand.com
END:VEVENT
END:VCALENDAR
