BEGIN:VCALENDAR
VERSION:2.0
PRODID:-//Intand Corporation//Tandem//EN
METHOD:PUBLISH
BEGIN:VEVENT
DTSTAMP:20260424T184634Z
DTSTART:20200926T140000Z
DTEND:20200926T153000Z
TRANSP:TRANSPARENT
PRIORITY:0
SUMMARY:JV Football vs Lima Senior
LOCATION:St. Francis de Sales School > Athletic Fields > LaValley Field (S
 tadium)
DESCRIPTION:Schools:\nSt. Francis de Sales School (Neutral)\nLima Senior H
 S/JH (Home)\n\nLocation:\nSt. Francis de Sales School > Athletic Fields > 
 LaValley Field (Stadium)\n\n
URL;VALUE=URI:http://sfs.tandem.co/index.php?type=view&action=event&id=1474
CREATED:20200805T200033Z
LAST-MODIFIED:20200813T185826Z
UID:event-1474-stfrancisdesales@intand.com
END:VEVENT
END:VCALENDAR
