BEGIN:VCALENDAR
VERSION:2.0
PRODID:-//Intand Corporation//Tandem//EN
METHOD:PUBLISH
BEGIN:VEVENT
DTSTAMP:20260424T183523Z
DTSTART:20220422T200000Z
DTEND:20220422T220000Z
TRANSP:TRANSPARENT
PRIORITY:0
SUMMARY:JV Tennis vs St. John's Jesuit
LOCATION:Toledo Tennis Club
DESCRIPTION:Location:\nToledo Tennis Club\n\n
URL;VALUE=URI:http://sfs.tandem.co/index.php?type=view&action=event&id=149
 48
CREATED:20220315T154213Z
LAST-MODIFIED:20220315T154213Z
UID:event-14948-stfrancisdesales@intand.com
END:VEVENT
END:VCALENDAR
