BEGIN:VCALENDAR
VERSION:2.0
PRODID:-//Intand Corporation//Tandem//EN
METHOD:PUBLISH
BEGIN:VEVENT
DTSTAMP:20260424T213246Z
DTSTART:20220327T170000Z
DTEND:20220327T200000Z
TRANSP:TRANSPARENT
PRIORITY:0
SUMMARY:All-Ohio Basketball Tryouts
LOCATION:St. Francis de Sales School > Aux Gym\, St. Francis de Sales Scho
 ol > Main Gym
DESCRIPTION:Schools:\nSt. Francis de Sales School\n\nLocations:\nSt. Franc
 is de Sales School > Aux Gym\nSt. Francis de Sales School > Main Gym\n\n
URL;VALUE=URI:http://sfs.tandem.co/index.php?type=view&action=event&id=151
 45
CREATED:20220323T131113Z
LAST-MODIFIED:20220323T131113Z
UID:event-15145-stfrancisdesales@intand.com
END:VEVENT
END:VCALENDAR
