BEGIN:VCALENDAR
VERSION:2.0
PRODID:-//Intand Corporation//Tandem//EN
METHOD:PUBLISH
BEGIN:VEVENT
DTSTAMP:20260424T184533Z
DTSTART:20220817T120000Z
DTEND:20220817T180000Z
TRANSP:TRANSPARENT
PRIORITY:0
SUMMARY:New Student Registration Day
LOCATION:St. Francis de Sales School
DESCRIPTION:Schools:\nSt. Francis de Sales School\n\nLocation:\nSt. Franci
 s de Sales School\n\n
URL;VALUE=URI:http://sfs.tandem.co/index.php?type=view&action=event&id=151
 49
CREATED:20220323T154917Z
LAST-MODIFIED:20220419T132410Z
UID:event-15149-stfrancisdesales@intand.com
END:VEVENT
END:VCALENDAR
