BEGIN:VCALENDAR
VERSION:2.0
PRODID:-//Intand Corporation//Tandem//EN
METHOD:PUBLISH
BEGIN:VEVENT
DTSTAMP:20260424T184614Z
DTSTART:20220418T170000Z
DTEND:20220418T180000Z
TRANSP:TRANSPARENT
PRIORITY:0
SUMMARY:Track & Field Lifting
LOCATION:St. Francis de Sales School > Weight Room
DESCRIPTION:Schools:\nSt. Francis de Sales School\n\nLocation:\nSt. Franci
 s de Sales School > Weight Room\n\n
URL;VALUE=URI:http://sfs.tandem.co/index.php?type=view&action=event&id=154
 15
CREATED:20220418T153354Z
LAST-MODIFIED:20220418T153354Z
UID:event-15415-stfrancisdesales@intand.com
END:VEVENT
END:VCALENDAR
