BEGIN:VCALENDAR
VERSION:2.0
PRODID:-//Intand Corporation//Tandem//EN
METHOD:PUBLISH
BEGIN:VEVENT
DTSTAMP:20260424T184657Z
DTSTART:20220419T135000Z
DTEND:20220419T141500Z
TRANSP:TRANSPARENT
PRIORITY:0
SUMMARY:Teen Pep
LOCATION:St. Francis de Sales School > Multi-Purpose Room
DESCRIPTION:Schools:\nSt. Francis de Sales School\n\nLocation:\nSt. Franci
 s de Sales School > Multi-Purpose Room\n\n
URL;VALUE=URI:http://sfs.tandem.co/index.php?type=view&action=event&id=154
 20
CREATED:20220418T184239Z
LAST-MODIFIED:20220418T184239Z
UID:event-15420-stfrancisdesales@intand.com
END:VEVENT
END:VCALENDAR
