BEGIN:VCALENDAR
VERSION:2.0
PRODID:-//Intand Corporation//Tandem//EN
METHOD:PUBLISH
BEGIN:VEVENT
DTSTAMP:20260424T184810Z
DTSTART:20220503T103000Z
DTEND:20220503T113000Z
TRANSP:TRANSPARENT
PRIORITY:0
SUMMARY:Soccer - Lifting
LOCATION:St. Francis de Sales School > Weight Room
DESCRIPTION:Schools:\nSt. Francis de Sales School\n\nLocation:\nSt. Franci
 s de Sales School > Weight Room\n\n
URL;VALUE=URI:http://sfs.tandem.co/index.php?type=view&action=event&id=154
 74
CREATED:20220414T180248Z
LAST-MODIFIED:20220419T181129Z
UID:event-15474-stfrancisdesales@intand.com
END:VEVENT
END:VCALENDAR
