BEGIN:VCALENDAR
VERSION:2.0
PRODID:-//Intand Corporation//Tandem//EN
METHOD:PUBLISH
BEGIN:VEVENT
DTSTAMP:20260424T183828Z
DTSTART:20200929T200000Z
DTEND:20200929T213000Z
TRANSP:TRANSPARENT
PRIORITY:0
SUMMARY:Cheerleading Practice
LOCATION:St. Francis de Sales School > Athletic Fields > LaValley Field (S
 tadium)
DESCRIPTION:Schools:\nSt. Francis de Sales School\n\nLocation:\nSt. Franci
 s de Sales School > Athletic Fields > LaValley Field (Stadium)\n\n
URL;VALUE=URI:http://sfs.tandem.co/index.php?type=view&action=event&id=1553
CREATED:20200812T162537Z
LAST-MODIFIED:20200812T162537Z
UID:event-1553-stfrancisdesales@intand.com
END:VEVENT
END:VCALENDAR
