BEGIN:VCALENDAR
VERSION:2.0
PRODID:-//Intand Corporation//Tandem//EN
METHOD:PUBLISH
BEGIN:VEVENT
DTSTAMP:20260424T201434Z
DTSTART:20220422T180000Z
DTEND:20220422T184500Z
TRANSP:TRANSPARENT
PRIORITY:0
SUMMARY:Lacrosse - Film/Chalktalk
LOCATION:St. Francis de Sales School > Classrooms > Room 006
DESCRIPTION:Schools:\nSt. Francis de Sales School\n\nLocation:\nSt. Franci
 s de Sales School > Classrooms > Room 006\n\n
URL;VALUE=URI:http://sfs.tandem.co/index.php?type=view&action=event&id=156
 44
CREATED:20220422T120513Z
LAST-MODIFIED:20220422T120513Z
UID:event-15644-stfrancisdesales@intand.com
END:VEVENT
END:VCALENDAR
